BEGIN:VCALENDAR
VERSION:2.0
PRODID:-//PYVOBJECT//NONSGML Version 0.9.9//EN
BEGIN:VTIMEZONE
TZID:fedocal_CET
BEGIN:STANDARD
DTSTART:20001029T040000
RRULE:FREQ=YEARLY;BYDAY=-1SU;BYMONTH=10
TZNAME:CET
TZOFFSETFROM:+0200
TZOFFSETTO:+0100
END:STANDARD
BEGIN:DAYLIGHT
DTSTART:20000326T020000
RRULE:FREQ=YEARLY;BYDAY=-1SU;BYMONTH=3
TZNAME:CEST
TZOFFSETFROM:+0100
TZOFFSETTO:+0200
END:DAYLIGHT
END:VTIMEZONE
BEGIN:VEVENT
UID:20260425T211809Z - 63347@fedocal-8777cdb7d-nrdqc
DTSTART;TZID=fedocal_CET:20260112T200000
DTEND;TZID=fedocal_CET:20260112T210000
DESCRIPTION:The regular meeting of Go SIG at the [fedora-meeting-1 room](ht
 tps://matrix.to/#/#meeting-1:fedoraproject.org).\n\nFor the proposed agend
 a\, please refer to the [tagged tickets](https://pagure.io/GoSIG/go-sig/is
 sues?status=Open&tags=meeting).
DTSTAMP:20260425T211809Z
LOCATION:fedora-meeting-1@irc.libera.chat
ORGANIZER:alexsaezm
RRULE:FREQ=WEEKLY;INTERVAL=2;UNTIL=20251231T000000Z
SUMMARY:Go SIG meeting
END:VEVENT
END:VCALENDAR
