BEGIN:VCALENDAR
VERSION:2.0
PRODID:-//PYVOBJECT//NONSGML Version 0.9.9//EN
BEGIN:VTIMEZONE
TZID:fedocal_EST
BEGIN:STANDARD
DTSTART:20001029T030000
RRULE:FREQ=YEARLY;BYDAY=-1SU;BYMONTH=10;UNTIL=20061029T070000Z
TZNAME:EST
TZOFFSETFROM:-0400
TZOFFSETTO:-0500
END:STANDARD
BEGIN:STANDARD
DTSTART:20071104T030000
RRULE:FREQ=YEARLY;BYDAY=1SU;BYMONTH=11
TZNAME:EST
TZOFFSETFROM:-0400
TZOFFSETTO:-0500
END:STANDARD
BEGIN:DAYLIGHT
DTSTART:20000402T020000
RRULE:FREQ=YEARLY;BYDAY=1SU;BYMONTH=4;UNTIL=20060402T070000Z
TZNAME:EDT
TZOFFSETFROM:-0500
TZOFFSETTO:-0400
END:DAYLIGHT
BEGIN:DAYLIGHT
DTSTART:20070311T020000
RRULE:FREQ=YEARLY;BYDAY=2SU;BYMONTH=3
TZNAME:EDT
TZOFFSETFROM:-0500
TZOFFSETTO:-0400
END:DAYLIGHT
END:VTIMEZONE
BEGIN:VEVENT
UID:20260425T194815Z - 98758@fedocal-8777cdb7d-nrdqc
DTSTART;TZID=fedocal_EST:20140408T110000
DTEND;TZID=fedocal_EST:20140408T120000
DESCRIPTION:Weekly meeting to discuss issues and planning for the Fedora Se
 rver Product and SIG.\n\nMore information available at:\n[http://fedorapro
 ject.org/wiki/Server](http://fedoraproject.org/wiki/Server)
DTSTAMP:20260425T194815Z
LOCATION:fedora-meeting-1@irc.libera.chat
ORGANIZER:pingou\, ralph
RRULE:FREQ=WEEKLY;UNTIL=20141215T000000Z
SUMMARY:Fedora Server Working Group
END:VEVENT
END:VCALENDAR
