BEGIN:VCALENDAR
VERSION:2.0
PRODID:-//PYVOBJECT//NONSGML Version 0.9.9//EN
BEGIN:VEVENT
UID:20260425T203227Z - 65013@fedocal-8777cdb7d-nrdqc
DTSTART:20180319T140000Z
DTEND:20180319T150000Z
DESCRIPTION:An hour of docs folks talking about what they are working on an
 d what they'd like to work on.\n\nMore information available at:\n[https:/
 /fedoraproject.org/wiki/Docs_Project_meetings](https://fedoraproject.org/w
 iki/Docs_Project_meetings)
DTSTAMP:20260425T203227Z
LOCATION:fedora-meeting@irc.libera.chat
ORGANIZER:bex\, immanetize
SUMMARY:Fedora Docs Weekly Meeting
END:VEVENT
END:VCALENDAR
