BEGIN:VCALENDAR
VERSION:2.0
PRODID:-//PYVOBJECT//NONSGML Version 0.9.9//EN
BEGIN:VEVENT
UID:20260424T011642Z - 29931@fedocal-8777cdb7d-nrdqc
DTSTART:20190912T170000Z
DTEND:20190912T190000Z
DESCRIPTION:\n\nMore information available at:\n[https://fedoraproject.org/
 wiki/Go_No_Go_Meeting](https://fedoraproject.org/wiki/Go_No_Go_Meeting)
DTSTAMP:20260424T011642Z
LOCATION:fedora-meeting-1@irc.libera.chat
ORGANIZER:bcotton
RRULE:FREQ=WEEKLY;UNTIL=20190918T000000Z
SUMMARY:Fedora 31 Beta Go/No-Go meeting
END:VEVENT
END:VCALENDAR
