BEGIN:VCALENDAR
VERSION:2.0
PRODID:-//PYVOBJECT//NONSGML Version 0.9.9//EN
BEGIN:VTIMEZONE
TZID:fedocal_EST
BEGIN:STANDARD
DTSTART:20001029T030000
RRULE:FREQ=YEARLY;BYDAY=-1SU;BYMONTH=10;UNTIL=20061029T070000Z
TZNAME:EST
TZOFFSETFROM:-0400
TZOFFSETTO:-0500
END:STANDARD
BEGIN:STANDARD
DTSTART:20071104T030000
RRULE:FREQ=YEARLY;BYDAY=1SU;BYMONTH=11
TZNAME:EST
TZOFFSETFROM:-0400
TZOFFSETTO:-0500
END:STANDARD
BEGIN:DAYLIGHT
DTSTART:20000402T020000
RRULE:FREQ=YEARLY;BYDAY=1SU;BYMONTH=4;UNTIL=20060402T070000Z
TZNAME:EDT
TZOFFSETFROM:-0500
TZOFFSETTO:-0400
END:DAYLIGHT
BEGIN:DAYLIGHT
DTSTART:20070311T020000
RRULE:FREQ=YEARLY;BYDAY=2SU;BYMONTH=3
TZNAME:EDT
TZOFFSETFROM:-0500
TZOFFSETTO:-0400
END:DAYLIGHT
END:VTIMEZONE
BEGIN:VEVENT
UID:20260425T113957Z - 28177@fedocal-8777cdb7d-nrdqc
DTSTART;TZID=fedocal_EST:20251211T100000
DTEND;TZID=fedocal_EST:20251211T110000
DESCRIPTION:Join us every week for to chat\, play games\, and just hang out
  together!\n\nTo join\, you first need to be a member of the Fedora Space:
 \n\n* [Invitation to join Fedora on Matrix](https://matrix.to/#/#fedora-sp
 ace:fedoraproject.org?via=chat.fedoraproject.org)\n\nThen\, come to the pa
 rty in\n\n* [Fedora Social Hour Video Chat](https://matrix.to/#/#social:fe
 doraproject.org?via=chat.fedoraproject.org)\n* [Direct Link to the Social 
 Hour Video Site](https://meet.opensuse.org/fedora-social)\n\nNote that thi
 s week is the "Early" time slot — we alternate with a "Late" one to bett
 er accommodate Fedoreans from different timezones. If you can't make this 
 one\, hope you can make the next! 
DTSTAMP:20260425T113957Z
LOCATION:social@chat.fedoraproject.org
ORGANIZER:farchord\, james\, jflory7\, mattdm
SUMMARY:"Early" Fedora Social Hour
END:VEVENT
END:VCALENDAR
