BEGIN:VCALENDAR
VERSION:2.0
PRODID:-//PYVOBJECT//NONSGML Version 0.9.9//EN
BEGIN:VTIMEZONE
TZID:fedocal_IST
BEGIN:STANDARD
DTSTART:20000101T000000
RRULE:FREQ=YEARLY;BYMONTH=1
TZNAME:IST
TZOFFSETFROM:+0530
TZOFFSETTO:+0530
END:STANDARD
END:VTIMEZONE
BEGIN:VEVENT
UID:20260426T020853Z - 47373@fedocal-8777cdb7d-nrdqc
DTSTART;TZID=fedocal_IST:20200917T150000
DTEND;TZID=fedocal_IST:20200917T160000
DTSTAMP:20260426T020853Z
LOCATION:fedora-meeting-1@irc.libera.chat
ORGANIZER:amoloney
RRULE:FREQ=WEEKLY;UNTIL=20250716T000000Z
SUMMARY:CPE PO Office Hours
END:VEVENT
END:VCALENDAR
