BEGIN:VCALENDAR
VERSION:2.0
PRODID:-//PYVOBJECT//NONSGML Version 0.9.9//EN
BEGIN:VEVENT
UID:20260426T022749Z - 48393@fedocal-8777cdb7d-nrdqc
DTSTART:20200616T160000Z
DTEND:20200616T170000Z
DESCRIPTION:The goal of this SIG is to produce a Fedora i3-based Fedora Spi
 n.\n\nMore information available at:\n[https://fedoraproject.org/wiki/SIGs
 /i3](https://fedoraproject.org/wiki/SIGs/i3)\n\nML: https://lists.fedorapr
 oject.org/admin/lists/i3wm.lists.fedoraproject.org/
DTSTAMP:20260426T022749Z
LOCATION:fedora-i3@irc.libera.chat
ORGANIZER:siddharthvipul1
RRULE:FREQ=WEEKLY;UNTIL=20241230T000000Z
SUMMARY:Fedora i3wm SIG
END:VEVENT
END:VCALENDAR
