BEGIN:VCALENDAR
VERSION:2.0
PRODID:-//PYVOBJECT//NONSGML Version 0.9.9//EN
BEGIN:VTIMEZONE
TZID:fedocal_EST
BEGIN:STANDARD
DTSTART:20001029T030000
RRULE:FREQ=YEARLY;BYDAY=-1SU;BYMONTH=10;UNTIL=20061029T070000Z
TZNAME:EST
TZOFFSETFROM:-0400
TZOFFSETTO:-0500
END:STANDARD
BEGIN:STANDARD
DTSTART:20071104T030000
RRULE:FREQ=YEARLY;BYDAY=1SU;BYMONTH=11
TZNAME:EST
TZOFFSETFROM:-0400
TZOFFSETTO:-0500
END:STANDARD
BEGIN:DAYLIGHT
DTSTART:20000402T020000
RRULE:FREQ=YEARLY;BYDAY=1SU;BYMONTH=4;UNTIL=20060402T070000Z
TZNAME:EDT
TZOFFSETFROM:-0500
TZOFFSETTO:-0400
END:DAYLIGHT
BEGIN:DAYLIGHT
DTSTART:20070311T020000
RRULE:FREQ=YEARLY;BYDAY=2SU;BYMONTH=3
TZNAME:EDT
TZOFFSETFROM:-0500
TZOFFSETTO:-0400
END:DAYLIGHT
END:VTIMEZONE
BEGIN:VEVENT
UID:20260426T025706Z - 62832@fedocal-8777cdb7d-nrdqc
DTSTART;TZID=fedocal_EST:20210908T140000
DTEND;TZID=fedocal_EST:20210908T150000
DESCRIPTION:A regular fortnightly 🎥 video chat meetup for 👨‍🎨️
  designers in Fedora and friends. Anyone participating can bring some desi
 gn work they are working on for some critique / advice / etc. If nobody ha
 s anything to show off Mo will have some Fedora design ticket or thing she
 's working on that we can look at as a back up.\n\nThis is a laid-back / c
 hill but also a super-respectful\, calm\, encouraging\, and safe environme
 nt. All of the Fedora code of conduct rules apply. \n\nJoin our chat about
  10-15 minutes before the meeting at: \n[https://matrix.to/#/#fedora-desig
 n:matrix.org](https://matrix.to/#/#fedora-design:matrix.org)\n\nJoin the m
 eeting at:\nhttps://meet.google.com/cni-ofhm-vhe\n\nMore information avail
 able at:\n[https://lists.fedoraproject.org/archives/list/design-team@lists
 .fedoraproject.org/thread/LPKGYAFRKG6JI7PWQIGCQVA6HKFBDAIM/](https://lists
 .fedoraproject.org/archives/list/design-team@lists.fedoraproject.org/threa
 d/LPKGYAFRKG6JI7PWQIGCQVA6HKFBDAIM/)
DTSTAMP:20260426T025706Z
LOCATION:https://meet.google.com/cni-ofhm-vhe
ORGANIZER:duffy
SUMMARY:🎨 Design Team Sessions Live (🎥 Video Chat)
X-GOOGLE-CONFERENCE:https://meet.google.com/cni-ofhm-vhe
END:VEVENT
END:VCALENDAR
